BEGIN:VCALENDAR
VERSION:2.0
PRODID:-//BHS Home and School - ECPv6.15.20//NONSGML v1.0//EN
CALSCALE:GREGORIAN
METHOD:PUBLISH
X-WR-CALNAME:BHS Home and School
X-ORIGINAL-URL:https://homeandschoolbhs.ca
X-WR-CALDESC:Events for BHS Home and School
REFRESH-INTERVAL;VALUE=DURATION:PT1H
X-Robots-Tag:noindex
X-PUBLISHED-TTL:PT1H
BEGIN:VTIMEZONE
TZID:America/Toronto
BEGIN:DAYLIGHT
TZOFFSETFROM:-0500
TZOFFSETTO:-0400
TZNAME:EDT
DTSTART:20230312T070000
END:DAYLIGHT
BEGIN:STANDARD
TZOFFSETFROM:-0400
TZOFFSETTO:-0500
TZNAME:EST
DTSTART:20231105T060000
END:STANDARD
BEGIN:DAYLIGHT
TZOFFSETFROM:-0500
TZOFFSETTO:-0400
TZNAME:EDT
DTSTART:20240310T070000
END:DAYLIGHT
BEGIN:STANDARD
TZOFFSETFROM:-0400
TZOFFSETTO:-0500
TZNAME:EST
DTSTART:20241103T060000
END:STANDARD
BEGIN:DAYLIGHT
TZOFFSETFROM:-0500
TZOFFSETTO:-0400
TZNAME:EDT
DTSTART:20250309T070000
END:DAYLIGHT
BEGIN:STANDARD
TZOFFSETFROM:-0400
TZOFFSETTO:-0500
TZNAME:EST
DTSTART:20251102T060000
END:STANDARD
BEGIN:DAYLIGHT
TZOFFSETFROM:-0500
TZOFFSETTO:-0400
TZNAME:EDT
DTSTART:20260308T070000
END:DAYLIGHT
BEGIN:STANDARD
TZOFFSETFROM:-0400
TZOFFSETTO:-0500
TZNAME:EST
DTSTART:20261101T060000
END:STANDARD
BEGIN:DAYLIGHT
TZOFFSETFROM:-0500
TZOFFSETTO:-0400
TZNAME:EDT
DTSTART:20270314T070000
END:DAYLIGHT
BEGIN:STANDARD
TZOFFSETFROM:-0400
TZOFFSETTO:-0500
TZNAME:EST
DTSTART:20271107T060000
END:STANDARD
END:VTIMEZONE
BEGIN:VEVENT
DTSTART;TZID=America/Toronto:20241120T183000
DTEND;TZID=America/Toronto:20241120T200000
DTSTAMP:20260421T185442
CREATED:20241115T011235Z
LAST-MODIFIED:20241120T164445Z
UID:10000034-1732127400-1732132800@homeandschoolbhs.ca
SUMMARY:Home & School AGM 2024-25
DESCRIPTION:This is our AGM for the 2024-25 school year. There are a couple positions available and we need quorum to vote them in. Please join us if you can!  \n\n\n\nUPDATE: We will be meeting over ZOOM – RSVP below to receive the link and agenda by email. \n\n\n\n\n\n\n\n\n\n\n\n\n\n\n\nREMINDER: Anyone can join the H&S meetings\, but only paid members can vote.
URL:https://homeandschoolbhs.ca/event/home-school-agm-2024-25/
CATEGORIES:meeting
ATTACH;FMTTYPE=image/png:https://homeandschoolbhs.ca/wp-content/uploads/sites/7/2020/11/language-school-illustration-30.png
END:VEVENT
BEGIN:VEVENT
DTSTART;TZID=America/Toronto:20250114T190000
DTEND;TZID=America/Toronto:20250114T200000
DTSTAMP:20260421T185442
CREATED:20250110T201623Z
LAST-MODIFIED:20250110T201624Z
UID:10000035-1736881200-1736884800@homeandschoolbhs.ca
SUMMARY:January Home & School Meeting
DESCRIPTION:All are welcome!\n\n\n\nThis month we’re meeting over Zoom. \n\n\n\nRSVP below to let us know if you are joining us and you will receive the link with your confirmation. \n\n\n\nPlease email homeandschoolbhs@gmail.com if you would like to receive the agenda and minutes from our last meeting to review. \n\n\n\n\n\n\n\n\n\n\n\n\n\nREMINDER: Anyone can join the H&S meetings\, but only paid members can vote. \n\n\n\n\n\n\n\n\n\n\n\n\n\nJanuary 14 @ 7:00 pm – 8:00 pm
URL:https://homeandschoolbhs.ca/event/january-home-school-meeting/
CATEGORIES:meeting
ATTACH;FMTTYPE=image/png:https://homeandschoolbhs.ca/wp-content/uploads/sites/7/2020/11/language-school-illustration-30.png
END:VEVENT
BEGIN:VEVENT
DTSTART;TZID=America/Toronto:20250212T190000
DTEND;TZID=America/Toronto:20250212T200000
DTSTAMP:20260421T185442
CREATED:20250207T171030Z
LAST-MODIFIED:20250207T171031Z
UID:10000036-1739386800-1739390400@homeandschoolbhs.ca
SUMMARY:February Home & School Meeting
DESCRIPTION:All are welcome!\n\n\n\nThis month we’re meeting over Zoom. \n\n\n\nRSVP below to let us know if you are joining us and you will receive the link with your confirmation. \n\n\n\nPlease email homeandschoolbhs@gmail.com if you would like to receive the agenda and minutes from our last meeting to review. \n\n\n\n\n\n\n\n\n\n\n\n\n\nREMINDER: Anyone can join the H&S meetings\, but only paid members can vote. \n\n\n\n\n\n\n\n\n\n\n\n\n\nFebruary 12 @ 7:00 pm – 8:00 pm
URL:https://homeandschoolbhs.ca/event/february-home-school-meeting/
CATEGORIES:meeting
ATTACH;FMTTYPE=image/png:https://homeandschoolbhs.ca/wp-content/uploads/sites/7/2020/11/language-school-illustration-30.png
END:VEVENT
BEGIN:VEVENT
DTSTART;TZID=America/Toronto:20250319T190000
DTEND;TZID=America/Toronto:20250319T200000
DTSTAMP:20260421T185442
CREATED:20250207T171257Z
LAST-MODIFIED:20250319T225758Z
UID:10000037-1742410800-1742414400@homeandschoolbhs.ca
SUMMARY:March Home & School Meeting
DESCRIPTION:All are welcome!\n\n\n\nThis month we’re meeting over Zoom. \n\n\n\nRSVP below to let us know if you are joining us and you will receive the link with your confirmation. \n\n\n\nPlease email homeandschoolbhs@gmail.com if you would like to receive the agenda and minutes from our last meeting to review. \n\n\n\n\n\n\n\n\n\n\n\n\n\nREMINDER: Anyone can join the H&S meetings\, but only paid members can vote. \n\n\n\n\n\n\n\n\n\n\n\n\n\nMarch 19 @ 7:00 pm – 8:00 pm
URL:https://homeandschoolbhs.ca/event/march-home-school-meeting/
CATEGORIES:meeting
ATTACH;FMTTYPE=image/png:https://homeandschoolbhs.ca/wp-content/uploads/sites/7/2020/11/language-school-illustration-30.png
END:VEVENT
BEGIN:VEVENT
DTSTART;TZID=America/Toronto:20250416T190000
DTEND;TZID=America/Toronto:20250416T200000
DTSTAMP:20260421T185442
CREATED:20250207T171405Z
LAST-MODIFIED:20250414T224814Z
UID:10000038-1744830000-1744833600@homeandschoolbhs.ca
SUMMARY:April Home & School Meeting
DESCRIPTION:All are welcome!\n\n\n\nThis month we’re meeting at the school library. \n\n\n\nRSVP below to let us know if you are joining us to receive your confirmation. \n\n\n\nPlease email homeandschoolbhs@gmail.com if you would like to receive the agenda and minutes from our last meeting to review. \n\n\n\n\n\n\n\n\n\n\n\n\n\nREMINDER: Anyone can join the H&S meetings\, but only paid members can vote. \n\n\n\n\n\n\n\n\n\n\n\n\n\nApril 16 @ 7:00 pm – 8:00 pm
URL:https://homeandschoolbhs.ca/event/april-home-school-meeting/
CATEGORIES:meeting
ATTACH;FMTTYPE=image/png:https://homeandschoolbhs.ca/wp-content/uploads/sites/7/2020/11/language-school-illustration-30.png
END:VEVENT
BEGIN:VEVENT
DTSTART;TZID=America/Toronto:20250514T190000
DTEND;TZID=America/Toronto:20250514T200000
DTSTAMP:20260421T185442
CREATED:20250207T171605Z
LAST-MODIFIED:20250207T171606Z
UID:10000039-1747249200-1747252800@homeandschoolbhs.ca
SUMMARY:May Home & School Meeting
DESCRIPTION:All are welcome!\n\n\n\nThis month we’re meeting over Zoom. \n\n\n\nRSVP below to let us know if you are joining us and you will receive the link with your confirmation. \n\n\n\nPlease email homeandschoolbhs@gmail.com if you would like to receive the agenda and minutes from our last meeting to review. \n\n\n\n\n\n\n\n\n\n\n\n\n\nREMINDER: Anyone can join the H&S meetings\, but only paid members can vote. \n\n\n\n\n\n\n\n\n\n\n\n\n\nMay 14 @ 7:00 pm – 8:00 pm
URL:https://homeandschoolbhs.ca/event/may-home-school-meeting/
CATEGORIES:meeting
ATTACH;FMTTYPE=image/png:https://homeandschoolbhs.ca/wp-content/uploads/sites/7/2020/11/language-school-illustration-30.png
END:VEVENT
BEGIN:VEVENT
DTSTART;TZID=America/Toronto:20251008T183000
DTEND;TZID=America/Toronto:20251008T200000
DTSTAMP:20260421T185442
CREATED:20250921T182722Z
LAST-MODIFIED:20250921T190424Z
UID:10000047-1759948200-1759953600@homeandschoolbhs.ca
SUMMARY:Home & School Meeting
DESCRIPTION:All are welcome!\n\n\n\nThis month we’re meeting over Zoom. \n\n\n\nRSVP on our Facebook event to let us know if you are joining us and you will receive the link with your confirmation. \n\n\n\n\n\nFB\n\n\n\n\n\n(note\, you must be logged into Facebook to respond) \n\n\n\n\n\nPlease email homeandschoolbhs@gmail.com if you would like to receive the agenda and minutes from our last meeting to review. \n\n\n\n\n\n\n\n\n\n\n\n\n\nREMINDER: Anyone can join the H&S meetings\, but only paid members can vote.
URL:https://homeandschoolbhs.ca/event/home-school-meeting-14/2025-10-08/
CATEGORIES:meeting
ATTACH;FMTTYPE=image/png:https://homeandschoolbhs.ca/wp-content/uploads/sites/7/2020/11/language-school-illustration-30.png
END:VEVENT
BEGIN:VEVENT
DTSTART;TZID=America/Toronto:20251112T183000
DTEND;TZID=America/Toronto:20251112T200000
DTSTAMP:20260421T185442
CREATED:20250921T182722Z
LAST-MODIFIED:20250921T190424Z
UID:10000048-1762972200-1762977600@homeandschoolbhs.ca
SUMMARY:Home & School Meeting
DESCRIPTION:All are welcome!\n\n\n\nThis month we’re meeting over Zoom. \n\n\n\nRSVP on our Facebook event to let us know if you are joining us and you will receive the link with your confirmation. \n\n\n\n\n\nFB\n\n\n\n\n\n(note\, you must be logged into Facebook to respond) \n\n\n\n\n\nPlease email homeandschoolbhs@gmail.com if you would like to receive the agenda and minutes from our last meeting to review. \n\n\n\n\n\n\n\n\n\n\n\n\n\nREMINDER: Anyone can join the H&S meetings\, but only paid members can vote.
URL:https://homeandschoolbhs.ca/event/home-school-meeting-14/2025-11-12/
CATEGORIES:meeting
ATTACH;FMTTYPE=image/png:https://homeandschoolbhs.ca/wp-content/uploads/sites/7/2020/11/language-school-illustration-30.png
END:VEVENT
BEGIN:VEVENT
DTSTART;TZID=America/Toronto:20251210T183000
DTEND;TZID=America/Toronto:20251210T200000
DTSTAMP:20260421T185442
CREATED:20250921T184922Z
LAST-MODIFIED:20250921T190556Z
UID:10000059-1765391400-1765396800@homeandschoolbhs.ca
SUMMARY:Home & School Social
DESCRIPTION:All are welcome!\n\n\n\nThis month we’re meeting in-person at a venue outside of the school. \n\n\n\nRSVP on our Facebook event to let us know if you are joining us and you will receive the details of when and where with your confirmation. \n\n\n\n\n\nFB\n\n\n\n\n\n(note\, you must be logged into Facebook to respond) \n\n\n\n\n\nPlease email homeandschoolbhs@gmail.com if you would like to receive the agenda and minutes from our last meeting to review. \n\n\n\n\n\n\n\n\n\n\n\n\n\nREMINDER: Anyone can join the H&S meetings\, but only paid members can vote.
URL:https://homeandschoolbhs.ca/event/home-school-social-2/2025-12-10/
CATEGORIES:meeting
ATTACH;FMTTYPE=image/jpeg:https://homeandschoolbhs.ca/wp-content/uploads/sites/7/2025/09/in-person-meeting.jpeg
END:VEVENT
BEGIN:VEVENT
DTSTART;TZID=America/Toronto:20260114T183000
DTEND;TZID=America/Toronto:20260114T200000
DTSTAMP:20260421T185442
CREATED:20250921T182722Z
LAST-MODIFIED:20250921T190424Z
UID:10000049-1768415400-1768420800@homeandschoolbhs.ca
SUMMARY:Home & School Meeting
DESCRIPTION:All are welcome!\n\n\n\nThis month we’re meeting over Zoom. \n\n\n\nRSVP on our Facebook event to let us know if you are joining us and you will receive the link with your confirmation. \n\n\n\n\n\nFB\n\n\n\n\n\n(note\, you must be logged into Facebook to respond) \n\n\n\n\n\nPlease email homeandschoolbhs@gmail.com if you would like to receive the agenda and minutes from our last meeting to review. \n\n\n\n\n\n\n\n\n\n\n\n\n\nREMINDER: Anyone can join the H&S meetings\, but only paid members can vote.
URL:https://homeandschoolbhs.ca/event/home-school-meeting-14/2026-01-14/
CATEGORIES:meeting
ATTACH;FMTTYPE=image/png:https://homeandschoolbhs.ca/wp-content/uploads/sites/7/2020/11/language-school-illustration-30.png
END:VEVENT
BEGIN:VEVENT
DTSTART;TZID=America/Toronto:20260211T183000
DTEND;TZID=America/Toronto:20260211T200000
DTSTAMP:20260421T185442
CREATED:20250921T182722Z
LAST-MODIFIED:20250921T190424Z
UID:10000050-1770834600-1770840000@homeandschoolbhs.ca
SUMMARY:Home & School Meeting
DESCRIPTION:All are welcome!\n\n\n\nThis month we’re meeting over Zoom. \n\n\n\nRSVP on our Facebook event to let us know if you are joining us and you will receive the link with your confirmation. \n\n\n\n\n\nFB\n\n\n\n\n\n(note\, you must be logged into Facebook to respond) \n\n\n\n\n\nPlease email homeandschoolbhs@gmail.com if you would like to receive the agenda and minutes from our last meeting to review. \n\n\n\n\n\n\n\n\n\n\n\n\n\nREMINDER: Anyone can join the H&S meetings\, but only paid members can vote.
URL:https://homeandschoolbhs.ca/event/home-school-meeting-14/2026-02-11/
CATEGORIES:meeting
ATTACH;FMTTYPE=image/png:https://homeandschoolbhs.ca/wp-content/uploads/sites/7/2020/11/language-school-illustration-30.png
END:VEVENT
BEGIN:VEVENT
DTSTART;TZID=America/Toronto:20260311T183000
DTEND;TZID=America/Toronto:20260311T200000
DTSTAMP:20260421T185442
CREATED:20250921T185046Z
LAST-MODIFIED:20250921T190624Z
UID:10000066-1773253800-1773259200@homeandschoolbhs.ca
SUMMARY:Home & School Meeting
DESCRIPTION:All are welcome!\n\n\n\nThis month we’re meeting in-person at the school library. \n\n\n\nRSVP on our Facebook event to let us know if you are joining us. \n\n\n\n\n\nFB\n\n\n\n\n\n(note\, you must be logged into Facebook to respond) \n\n\n\n\n\nPlease email homeandschoolbhs@gmail.com if you would like to receive the agenda and minutes from our last meeting to review. \n\n\n\n\n\n\n\n\n\n\n\n\n\nREMINDER: Anyone can join the H&S meetings\, but only paid members can vote.
URL:https://homeandschoolbhs.ca/event/home-school-meeting-16/
CATEGORIES:meeting
ATTACH;FMTTYPE=image/jpeg:https://homeandschoolbhs.ca/wp-content/uploads/sites/7/2025/09/in-person-meeting.jpeg
END:VEVENT
BEGIN:VEVENT
DTSTART;TZID=America/Toronto:20260408T183000
DTEND;TZID=America/Toronto:20260408T200000
DTSTAMP:20260421T185442
CREATED:20250921T182722Z
LAST-MODIFIED:20250921T190424Z
UID:10000051-1775673000-1775678400@homeandschoolbhs.ca
SUMMARY:Home & School Meeting
DESCRIPTION:All are welcome!\n\n\n\nThis month we’re meeting over Zoom. \n\n\n\nRSVP on our Facebook event to let us know if you are joining us and you will receive the link with your confirmation. \n\n\n\n\n\nFB\n\n\n\n\n\n(note\, you must be logged into Facebook to respond) \n\n\n\n\n\nPlease email homeandschoolbhs@gmail.com if you would like to receive the agenda and minutes from our last meeting to review. \n\n\n\n\n\n\n\n\n\n\n\n\n\nREMINDER: Anyone can join the H&S meetings\, but only paid members can vote.
URL:https://homeandschoolbhs.ca/event/home-school-meeting-14/2026-04-08/
CATEGORIES:meeting
ATTACH;FMTTYPE=image/png:https://homeandschoolbhs.ca/wp-content/uploads/sites/7/2020/11/language-school-illustration-30.png
END:VEVENT
BEGIN:VEVENT
DTSTART;TZID=America/Toronto:20260513T183000
DTEND;TZID=America/Toronto:20260513T200000
DTSTAMP:20260421T185442
CREATED:20250921T182722Z
LAST-MODIFIED:20250921T190424Z
UID:10000052-1778697000-1778702400@homeandschoolbhs.ca
SUMMARY:Home & School Meeting
DESCRIPTION:All are welcome!\n\n\n\nThis month we’re meeting over Zoom. \n\n\n\nRSVP on our Facebook event to let us know if you are joining us and you will receive the link with your confirmation. \n\n\n\n\n\nFB\n\n\n\n\n\n(note\, you must be logged into Facebook to respond) \n\n\n\n\n\nPlease email homeandschoolbhs@gmail.com if you would like to receive the agenda and minutes from our last meeting to review. \n\n\n\n\n\n\n\n\n\n\n\n\n\nREMINDER: Anyone can join the H&S meetings\, but only paid members can vote.
URL:https://homeandschoolbhs.ca/event/home-school-meeting-14/2026-05-13/
CATEGORIES:meeting
ATTACH;FMTTYPE=image/png:https://homeandschoolbhs.ca/wp-content/uploads/sites/7/2020/11/language-school-illustration-30.png
END:VEVENT
BEGIN:VEVENT
DTSTART;TZID=America/Toronto:20260610T183000
DTEND;TZID=America/Toronto:20260610T200000
DTSTAMP:20260421T185442
CREATED:20250921T184922Z
LAST-MODIFIED:20250921T190556Z
UID:10000065-1781116200-1781121600@homeandschoolbhs.ca
SUMMARY:Home & School Social
DESCRIPTION:All are welcome!\n\n\n\nThis month we’re meeting in-person at a venue outside of the school. \n\n\n\nRSVP on our Facebook event to let us know if you are joining us and you will receive the details of when and where with your confirmation. \n\n\n\n\n\nFB\n\n\n\n\n\n(note\, you must be logged into Facebook to respond) \n\n\n\n\n\nPlease email homeandschoolbhs@gmail.com if you would like to receive the agenda and minutes from our last meeting to review. \n\n\n\n\n\n\n\n\n\n\n\n\n\nREMINDER: Anyone can join the H&S meetings\, but only paid members can vote.
URL:https://homeandschoolbhs.ca/event/home-school-social-2/2026-06-10/
CATEGORIES:meeting
ATTACH;FMTTYPE=image/jpeg:https://homeandschoolbhs.ca/wp-content/uploads/sites/7/2025/09/in-person-meeting.jpeg
END:VEVENT
END:VCALENDAR