BEGIN:VCALENDAR
VERSION:2.0
PRODID:-//BHS Home and School - ECPv6.15.20//NONSGML v1.0//EN
CALSCALE:GREGORIAN
METHOD:PUBLISH
X-WR-CALNAME:BHS Home and School
X-ORIGINAL-URL:https://homeandschoolbhs.ca
X-WR-CALDESC:Events for BHS Home and School
REFRESH-INTERVAL;VALUE=DURATION:PT1H
X-Robots-Tag:noindex
X-PUBLISHED-TTL:PT1H
BEGIN:VTIMEZONE
TZID:America/Toronto
BEGIN:DAYLIGHT
TZOFFSETFROM:-0500
TZOFFSETTO:-0400
TZNAME:EDT
DTSTART:20220313T070000
END:DAYLIGHT
BEGIN:STANDARD
TZOFFSETFROM:-0400
TZOFFSETTO:-0500
TZNAME:EST
DTSTART:20221106T060000
END:STANDARD
BEGIN:DAYLIGHT
TZOFFSETFROM:-0500
TZOFFSETTO:-0400
TZNAME:EDT
DTSTART:20230312T070000
END:DAYLIGHT
BEGIN:STANDARD
TZOFFSETFROM:-0400
TZOFFSETTO:-0500
TZNAME:EST
DTSTART:20231105T060000
END:STANDARD
BEGIN:DAYLIGHT
TZOFFSETFROM:-0500
TZOFFSETTO:-0400
TZNAME:EDT
DTSTART:20240310T070000
END:DAYLIGHT
BEGIN:STANDARD
TZOFFSETFROM:-0400
TZOFFSETTO:-0500
TZNAME:EST
DTSTART:20241103T060000
END:STANDARD
END:VTIMEZONE
BEGIN:VEVENT
DTSTART;TZID=America/Toronto:20230208T183000
DTEND;TZID=America/Toronto:20230208T203000
DTSTAMP:20260421T193947
CREATED:20230118T173729Z
LAST-MODIFIED:20230208T190718Z
UID:10000006-1675881000-1675888200@homeandschoolbhs.ca
SUMMARY:Home & School Meeting (NOTE: Date change!)
DESCRIPTION:We are Meeting VIRTUALLY this week. \nPlease email homeandschoolbhs@gmail.com if you did not receive the meeting link\, agenda\, and minutes from our last meeting to review. \nREMINDER: Anyone can join the H&S meetings\, but only paid members can vote.
URL:https://homeandschoolbhs.ca/event/home-school-meeting-5/
LOCATION:Virtually
CATEGORIES:meeting
ATTACH;FMTTYPE=image/png:https://homeandschoolbhs.ca/wp-content/uploads/sites/7/2020/11/language-school-illustration-36.png
END:VEVENT
END:VCALENDAR