BEGIN:VCALENDAR
VERSION:2.0
PRODID:-//BHS Home and School - ECPv6.15.20//NONSGML v1.0//EN
CALSCALE:GREGORIAN
METHOD:PUBLISH
X-ORIGINAL-URL:https://homeandschoolbhs.ca
X-WR-CALDESC:Events for BHS Home and School
REFRESH-INTERVAL;VALUE=DURATION:PT1H
X-Robots-Tag:noindex
X-PUBLISHED-TTL:PT1H
BEGIN:VTIMEZONE
TZID:America/Toronto
BEGIN:DAYLIGHT
TZOFFSETFROM:-0500
TZOFFSETTO:-0400
TZNAME:EDT
DTSTART:20220313T070000
END:DAYLIGHT
BEGIN:STANDARD
TZOFFSETFROM:-0400
TZOFFSETTO:-0500
TZNAME:EST
DTSTART:20221106T060000
END:STANDARD
BEGIN:DAYLIGHT
TZOFFSETFROM:-0500
TZOFFSETTO:-0400
TZNAME:EDT
DTSTART:20230312T070000
END:DAYLIGHT
BEGIN:STANDARD
TZOFFSETFROM:-0400
TZOFFSETTO:-0500
TZNAME:EST
DTSTART:20231105T060000
END:STANDARD
BEGIN:DAYLIGHT
TZOFFSETFROM:-0500
TZOFFSETTO:-0400
TZNAME:EDT
DTSTART:20240310T070000
END:DAYLIGHT
BEGIN:STANDARD
TZOFFSETFROM:-0400
TZOFFSETTO:-0500
TZNAME:EST
DTSTART:20241103T060000
END:STANDARD
END:VTIMEZONE
BEGIN:VEVENT
DTSTART;TZID=America/Toronto:20231120T190000
DTEND;TZID=America/Toronto:20231120T203000
DTSTAMP:20260421T093159
CREATED:20231116T172017Z
LAST-MODIFIED:20231119T173040Z
UID:10000016-1700506800-1700512200@homeandschoolbhs.ca
SUMMARY:Postponed - Home & School AGM 2023-24
DESCRIPTION:New Date TBD\n\n\n\nThis is our AGM for the 2023-24 school year. There are a couple positions available and we need quorum to vote them in. Please join us if you can!  \n\n\n\nThe agenda and minutes from our last meeting can be reviewed here. \n\n\n\n\n\n\n\n\n\n\n\n\n\nREMINDER: Anyone can join the H&S meetings\, but only paid members can vote.
URL:https://homeandschoolbhs.ca/event/home-school-meeting-11/
LOCATION:QC
CATEGORIES:meeting
ATTACH;FMTTYPE=image/png:https://homeandschoolbhs.ca/wp-content/uploads/sites/7/2020/11/language-school-illustration-30.png
END:VEVENT
END:VCALENDAR