BEGIN:VCALENDAR
VERSION:2.0
PRODID:-//BHS Home and School - ECPv6.15.20//NONSGML v1.0//EN
CALSCALE:GREGORIAN
METHOD:PUBLISH
X-ORIGINAL-URL:https://homeandschoolbhs.ca
X-WR-CALDESC:Events for BHS Home and School
REFRESH-INTERVAL;VALUE=DURATION:PT1H
X-Robots-Tag:noindex
X-PUBLISHED-TTL:PT1H
BEGIN:VTIMEZONE
TZID:America/Toronto
BEGIN:DAYLIGHT
TZOFFSETFROM:-0500
TZOFFSETTO:-0400
TZNAME:EDT
DTSTART:20220313T070000
END:DAYLIGHT
BEGIN:STANDARD
TZOFFSETFROM:-0400
TZOFFSETTO:-0500
TZNAME:EST
DTSTART:20221106T060000
END:STANDARD
BEGIN:DAYLIGHT
TZOFFSETFROM:-0500
TZOFFSETTO:-0400
TZNAME:EDT
DTSTART:20230312T070000
END:DAYLIGHT
BEGIN:STANDARD
TZOFFSETFROM:-0400
TZOFFSETTO:-0500
TZNAME:EST
DTSTART:20231105T060000
END:STANDARD
BEGIN:DAYLIGHT
TZOFFSETFROM:-0500
TZOFFSETTO:-0400
TZNAME:EDT
DTSTART:20240310T070000
END:DAYLIGHT
BEGIN:STANDARD
TZOFFSETFROM:-0400
TZOFFSETTO:-0500
TZNAME:EST
DTSTART:20241103T060000
END:STANDARD
END:VTIMEZONE
BEGIN:VEVENT
DTSTART;TZID=America/Toronto:20230421T190000
DTEND;TZID=America/Toronto:20230421T220000
DTSTAMP:20260421T195853
CREATED:20230322T144907Z
LAST-MODIFIED:20230420T154822Z
UID:10000012-1682103600-1682114400@homeandschoolbhs.ca
SUMMARY:Comedy Night Fundraiser
DESCRIPTION:Come one\, come all!\nTickets are available here ONLY – $30 each. \n\nHOW TO PAY in 3 easy steps\nSTEP 1: Click on “Buy Tickets” below (will open a PayPal window) and then select one of the following: \nFor 1-3 tickets click on the total amount:\n$30.00 – 1 ticket\n$60.00 – 2 tickets\n$90.00 – 3 tickets \nFor 4+ tickets\, click on Other and enter the TOTAL cost of the tickets:\n(pay attention – you need to enter the cents too\, so enter 12000 for $120.00\, etc.)\n$120.00 – 4 tickets\n$150.00 – 5 tickets\n$180.00 – 6 tickets\n$210.00 – 7 tickets\n$240.00 – 8 tickets\nMore than 8? Enter #tickets X $30.00 \nWe appreciate if you choose to add the fees so the full ticket amount can be put towards the campaign. \nSTEP 2: Click on either “Donate via PayPal” if you have a PayPal account\, or “Donate with Debit or Credit Card” to complete the payment. \nSTEP 3: Save your email receipt from PayPal to show at the door. \n\n\n\n \n\n\n\nCan’t attend and/or you want to contribute more to help us reach our $10\,000 goal?\nUse the donate button below to make a donation directly to the campaign.
URL:https://homeandschoolbhs.ca/event/comedy-night-fundraiser/
LOCATION:Beaconsfield HS\, 250 Beaurepaire Dr.\, Beaconsfield\, QC\, H9W 5G7\, Canada
CATEGORIES:community event
ATTACH;FMTTYPE=image/jpeg:https://homeandschoolbhs.ca/wp-content/uploads/sites/7/2023/04/BHSComedyNight-tickets-at-door.jpg
END:VEVENT
END:VCALENDAR